BEGIN:VCALENDAR
VERSION:2.0
PRODID:-//Slovenská Únia Okinawa Karate a Kobudo - ECPv6.15.17.1//NONSGML v1.0//EN
CALSCALE:GREGORIAN
METHOD:PUBLISH
X-WR-CALNAME:Slovenská Únia Okinawa Karate a Kobudo
X-ORIGINAL-URL:https://suokk.sk
X-WR-CALDESC:Udalosti pre Slovenská Únia Okinawa Karate a Kobudo
REFRESH-INTERVAL;VALUE=DURATION:PT1H
X-Robots-Tag:noindex
X-PUBLISHED-TTL:PT1H
BEGIN:VTIMEZONE
TZID:Europe/Bratislava
BEGIN:DAYLIGHT
TZOFFSETFROM:+0100
TZOFFSETTO:+0200
TZNAME:CEST
DTSTART:20240331T010000
END:DAYLIGHT
BEGIN:STANDARD
TZOFFSETFROM:+0200
TZOFFSETTO:+0100
TZNAME:CET
DTSTART:20241027T010000
END:STANDARD
BEGIN:DAYLIGHT
TZOFFSETFROM:+0100
TZOFFSETTO:+0200
TZNAME:CEST
DTSTART:20250330T010000
END:DAYLIGHT
BEGIN:STANDARD
TZOFFSETFROM:+0200
TZOFFSETTO:+0100
TZNAME:CET
DTSTART:20251026T010000
END:STANDARD
BEGIN:DAYLIGHT
TZOFFSETFROM:+0100
TZOFFSETTO:+0200
TZNAME:CEST
DTSTART:20260329T010000
END:DAYLIGHT
BEGIN:STANDARD
TZOFFSETFROM:+0200
TZOFFSETTO:+0100
TZNAME:CET
DTSTART:20261025T010000
END:STANDARD
END:VTIMEZONE
BEGIN:VEVENT
DTSTART;VALUE=DATE:20251128
DTEND;VALUE=DATE:20251201
DTSTAMP:20260426T043517
CREATED:20251026T175056Z
LAST-MODIFIED:20251105T142752Z
UID:5901-1764288000-1764547199@suokk.sk
SUMMARY:20. Winter Gasshuku
DESCRIPTION:Kobudo Kai Vás srdečne pozýva na 20. Zimné Gasshuku pod vedením. Sensei Raoul Vogel (8. Dan TOGKF\, Šéfinštruktor TOGKF Rakúsko). \nViac informácii \nKobudo Kai  invites you to the 20th Winter Gasshuku under the leadership of Sensei Raoul Vogel (8th Dan TOGKF\, Chief Instructor TOGKF Austria). \nMore info \nPRIHLÁSENIE / REGISTRATION \n 
URL:https://suokk.sk/udalosti/20-winter-gasshuku/
LOCATION:Bratislava
ATTACH;FMTTYPE=image/jpeg:https://suokk.sk/wp-content/uploads/2025/11/winter-KK-scaled.jpg
END:VEVENT
END:VCALENDAR