BEGIN:VCALENDAR
VERSION:2.0
PRODID:-//Slovenská Únia Okinawa Karate a Kobudo - ECPv6.15.17.1//NONSGML v1.0//EN
CALSCALE:GREGORIAN
METHOD:PUBLISH
X-ORIGINAL-URL:https://suokk.sk
X-WR-CALDESC:Udalosti pre Slovenská Únia Okinawa Karate a Kobudo
REFRESH-INTERVAL;VALUE=DURATION:PT1H
X-Robots-Tag:noindex
X-PUBLISHED-TTL:PT1H
BEGIN:VTIMEZONE
TZID:Europe/Bratislava
BEGIN:DAYLIGHT
TZOFFSETFROM:+0100
TZOFFSETTO:+0200
TZNAME:CEST
DTSTART:20250330T010000
END:DAYLIGHT
BEGIN:STANDARD
TZOFFSETFROM:+0200
TZOFFSETTO:+0100
TZNAME:CET
DTSTART:20251026T010000
END:STANDARD
BEGIN:DAYLIGHT
TZOFFSETFROM:+0100
TZOFFSETTO:+0200
TZNAME:CEST
DTSTART:20260329T010000
END:DAYLIGHT
BEGIN:STANDARD
TZOFFSETFROM:+0200
TZOFFSETTO:+0100
TZNAME:CET
DTSTART:20261025T010000
END:STANDARD
BEGIN:DAYLIGHT
TZOFFSETFROM:+0100
TZOFFSETTO:+0200
TZNAME:CEST
DTSTART:20270328T010000
END:DAYLIGHT
BEGIN:STANDARD
TZOFFSETFROM:+0200
TZOFFSETTO:+0100
TZNAME:CET
DTSTART:20271031T010000
END:STANDARD
END:VTIMEZONE
BEGIN:VEVENT
DTSTART;TZID=Europe/Bratislava:20260117T080000
DTEND;TZID=Europe/Bratislava:20260117T170000
DTSTAMP:20260425T225723
CREATED:20251127T085440Z
LAST-MODIFIED:20251127T085440Z
UID:5959-1768636800-1768669200@suokk.sk
SUMMARY:seminár Okinawa Kobudo
DESCRIPTION:Srdečne Vás pozývame na seminár Okinawa Kobudo\, ktorý sa uskutoční 17. januára 2026 v Žiline. Seminár povedie Sensei Igor Vakoš (šéf inštruktor TOGKF Slovensko a WOF Slovensko). Ak máte chuť zacvičiť si s tradičnými zbraňami ako Bo\, Sai\, Tonkuwa či Nunchaku\, ste vítaní! \nSeminár je organizovaný v spolupráci s Seishin Goju Ryu Karate – Do.Podrobnosti o mieste konania\, cene a programe zverejníme čoskoro.
URL:https://suokk.sk/udalosti/seminar-okinawa-kobudo/
LOCATION:Žilina
ATTACH;FMTTYPE=image/jpeg:https://suokk.sk/wp-content/uploads/2025/11/seminar-kobudo.jpg
END:VEVENT
END:VCALENDAR