BEGIN:VCALENDAR
VERSION:2.0
PRODID:-//Slovenská Únia Okinawa Karate a Kobudo - ECPv6.15.17.1//NONSGML v1.0//EN
CALSCALE:GREGORIAN
METHOD:PUBLISH
X-WR-CALNAME:Slovenská Únia Okinawa Karate a Kobudo
X-ORIGINAL-URL:https://suokk.sk
X-WR-CALDESC:Udalosti pre Slovenská Únia Okinawa Karate a Kobudo
REFRESH-INTERVAL;VALUE=DURATION:PT1H
X-Robots-Tag:noindex
X-PUBLISHED-TTL:PT1H
BEGIN:VTIMEZONE
TZID:Europe/Bratislava
BEGIN:DAYLIGHT
TZOFFSETFROM:+0100
TZOFFSETTO:+0200
TZNAME:CEST
DTSTART:20250330T010000
END:DAYLIGHT
BEGIN:STANDARD
TZOFFSETFROM:+0200
TZOFFSETTO:+0100
TZNAME:CET
DTSTART:20251026T010000
END:STANDARD
BEGIN:DAYLIGHT
TZOFFSETFROM:+0100
TZOFFSETTO:+0200
TZNAME:CEST
DTSTART:20260329T010000
END:DAYLIGHT
BEGIN:STANDARD
TZOFFSETFROM:+0200
TZOFFSETTO:+0100
TZNAME:CET
DTSTART:20261025T010000
END:STANDARD
BEGIN:DAYLIGHT
TZOFFSETFROM:+0100
TZOFFSETTO:+0200
TZNAME:CEST
DTSTART:20270328T010000
END:DAYLIGHT
BEGIN:STANDARD
TZOFFSETFROM:+0200
TZOFFSETTO:+0100
TZNAME:CET
DTSTART:20271031T010000
END:STANDARD
END:VTIMEZONE
BEGIN:VEVENT
DTSTART;VALUE=DATE:20260501
DTEND;VALUE=DATE:20260503
DTSTAMP:20260425T143323
CREATED:20260325T133743Z
LAST-MODIFIED:20260325T133743Z
UID:6056-1777593600-1777766399@suokk.sk
SUMMARY:Tora Kan Dojo Gasshuku
DESCRIPTION:
URL:https://suokk.sk/udalosti/tora-kan-dojo-gasshuku/
LOCATION:svit
ATTACH;FMTTYPE=image/jpeg:https://suokk.sk/wp-content/uploads/2026/03/dodo-seminar-2026-scaled.jpg
END:VEVENT
BEGIN:VEVENT
DTSTART;VALUE=DATE:20260515
DTEND;VALUE=DATE:20260518
DTSTAMP:20260425T143324
CREATED:20251026T170741Z
LAST-MODIFIED:20251026T170830Z
UID:5873-1778803200-1779062399@suokk.sk
SUMMARY:European Gasshuku 2026
DESCRIPTION:
URL:https://suokk.sk/udalosti/european-gasshuku-2026/
LOCATION:Germany
ATTACH;FMTTYPE=image/jpeg:https://suokk.sk/wp-content/uploads/2025/04/european-germany.jpg
END:VEVENT
BEGIN:VEVENT
DTSTART;TZID=Europe/Bratislava:20260531T100000
DTEND;TZID=Europe/Bratislava:20260531T130000
DTSTAMP:20260425T143324
CREATED:20260212T110414Z
LAST-MODIFIED:20260212T110414Z
UID:6011-1780221600-1780232400@suokk.sk
SUMMARY:Senior Training
DESCRIPTION:
URL:https://suokk.sk/udalosti/senior-training-3/
LOCATION:Bratislava
ATTACH;FMTTYPE=image/jpeg:https://suokk.sk/wp-content/uploads/2024/08/cierne-pasy-copy-scaled.jpg
END:VEVENT
BEGIN:VEVENT
DTSTART;VALUE=DATE:20260703
DTEND;VALUE=DATE:20260707
DTSTAMP:20260425T143324
CREATED:20260212T110500Z
LAST-MODIFIED:20260325T135123Z
UID:6013-1783036800-1783382399@suokk.sk
SUMMARY:22. Summer Budo Camp
DESCRIPTION:Viac info: 22. SBC \nMore info: 22. SBC_EN
URL:https://suokk.sk/udalosti/summer-budo-camp/
ATTACH;FMTTYPE=image/jpeg:https://suokk.sk/wp-content/uploads/2026/02/BC-2026-scaled.jpg
END:VEVENT
END:VCALENDAR