BEGIN:VCALENDAR
VERSION:2.0
PRODID:-//Slovenská Únia Okinawa Karate a Kobudo - ECPv6.15.17.1//NONSGML v1.0//EN
CALSCALE:GREGORIAN
METHOD:PUBLISH
X-WR-CALNAME:Slovenská Únia Okinawa Karate a Kobudo
X-ORIGINAL-URL:https://suokk.sk
X-WR-CALDESC:Udalosti pre Slovenská Únia Okinawa Karate a Kobudo
REFRESH-INTERVAL;VALUE=DURATION:PT1H
X-Robots-Tag:noindex
X-PUBLISHED-TTL:PT1H
BEGIN:VTIMEZONE
TZID:Europe/Bratislava
BEGIN:DAYLIGHT
TZOFFSETFROM:+0100
TZOFFSETTO:+0200
TZNAME:CEST
DTSTART:20250330T010000
END:DAYLIGHT
BEGIN:STANDARD
TZOFFSETFROM:+0200
TZOFFSETTO:+0100
TZNAME:CET
DTSTART:20251026T010000
END:STANDARD
BEGIN:DAYLIGHT
TZOFFSETFROM:+0100
TZOFFSETTO:+0200
TZNAME:CEST
DTSTART:20260329T010000
END:DAYLIGHT
BEGIN:STANDARD
TZOFFSETFROM:+0200
TZOFFSETTO:+0100
TZNAME:CET
DTSTART:20261025T010000
END:STANDARD
BEGIN:DAYLIGHT
TZOFFSETFROM:+0100
TZOFFSETTO:+0200
TZNAME:CEST
DTSTART:20270328T010000
END:DAYLIGHT
BEGIN:STANDARD
TZOFFSETFROM:+0200
TZOFFSETTO:+0100
TZNAME:CET
DTSTART:20271031T010000
END:STANDARD
END:VTIMEZONE
BEGIN:VEVENT
DTSTART;TZID=Europe/Bratislava:20260419T100000
DTEND;TZID=Europe/Bratislava:20260419T130000
DTSTAMP:20260425T190854
CREATED:20260212T110340Z
LAST-MODIFIED:20260212T110522Z
UID:6009-1776592800-1776603600@suokk.sk
SUMMARY:Senior Training
DESCRIPTION:
URL:https://suokk.sk/udalosti/senior-training-2/
LOCATION:Bratislava
ATTACH;FMTTYPE=image/jpeg:https://suokk.sk/wp-content/uploads/2024/08/cierne-pasy-copy-scaled.jpg
END:VEVENT
END:VCALENDAR