BEGIN:VCALENDAR
VERSION:2.0
PRODID:-//Slovenská Únia Okinawa Karate a Kobudo - ECPv6.15.17.1//NONSGML v1.0//EN
CALSCALE:GREGORIAN
METHOD:PUBLISH
X-ORIGINAL-URL:https://suokk.sk
X-WR-CALDESC:Udalosti pre Slovenská Únia Okinawa Karate a Kobudo
REFRESH-INTERVAL;VALUE=DURATION:PT1H
X-Robots-Tag:noindex
X-PUBLISHED-TTL:PT1H
BEGIN:VTIMEZONE
TZID:Europe/Bratislava
BEGIN:DAYLIGHT
TZOFFSETFROM:+0100
TZOFFSETTO:+0200
TZNAME:CEST
DTSTART:20250330T010000
END:DAYLIGHT
BEGIN:STANDARD
TZOFFSETFROM:+0200
TZOFFSETTO:+0100
TZNAME:CET
DTSTART:20251026T010000
END:STANDARD
BEGIN:DAYLIGHT
TZOFFSETFROM:+0100
TZOFFSETTO:+0200
TZNAME:CEST
DTSTART:20260329T010000
END:DAYLIGHT
BEGIN:STANDARD
TZOFFSETFROM:+0200
TZOFFSETTO:+0100
TZNAME:CET
DTSTART:20261025T010000
END:STANDARD
BEGIN:DAYLIGHT
TZOFFSETFROM:+0100
TZOFFSETTO:+0200
TZNAME:CEST
DTSTART:20270328T010000
END:DAYLIGHT
BEGIN:STANDARD
TZOFFSETFROM:+0200
TZOFFSETTO:+0100
TZNAME:CET
DTSTART:20271031T010000
END:STANDARD
END:VTIMEZONE
BEGIN:VEVENT
DTSTART;VALUE=DATE:20260207
DTEND;VALUE=DATE:20260209
DTSTAMP:20260425T225003
CREATED:20260126T165941Z
LAST-MODIFIED:20260126T170146Z
UID:5997-1770422400-1770595199@suokk.sk
SUMMARY:Winter Junior Gasshuku Senshi Dojo
DESCRIPTION:Pozývame Vás na seminár tradičného karate a kobudo v Ivanke pri Dunaji. \nČlenovia sa prihlasujú výlučne cez Edupage. \nNečlenovia – prihláška tu.
URL:https://suokk.sk/udalosti/winter-junior-gasshuku-senshi-dojo/
LOCATION:Ivanka pri Dunaji
ATTACH;FMTTYPE=image/jpeg:https://suokk.sk/wp-content/uploads/2026/01/Winter-Junior-Gasshuku-022025-2048x1448-1.jpg
END:VEVENT
END:VCALENDAR